Package: RnaSeqSampleSize Version: 2.17.0 Command: /home/biocbuild/R/R/bin/R CMD build --keep-empty-dirs --no-resave-data RnaSeqSampleSize StartedAt: 2025-01-29 01:47:38 -0000 (Wed, 29 Jan 2025) EndedAt: 2025-01-29 01:50:18 -0000 (Wed, 29 Jan 2025) EllapsedTime: 160.1 seconds RetCode: 0 Status: OK PackageFile: RnaSeqSampleSize_2.17.0.tar.gz PackageFileSize: 226.5 KiB