Package: RnaSeqSampleSize Version: 2.17.0 Command: /home/biocbuild/R/R/bin/R CMD INSTALL RnaSeqSampleSize StartedAt: 2025-01-29 20:35:08 -0000 (Wed, 29 Jan 2025) EndedAt: 2025-01-29 20:36:24 -0000 (Wed, 29 Jan 2025) EllapsedTime: 75.8 seconds RetCode: 0 Status: OK