Package: RnaSeqSampleSize Version: 2.17.0 Command: rm -rf RnaSeqSampleSize.buildbin-libdir && mkdir RnaSeqSampleSize.buildbin-libdir && /Users/biocbuild/BBS/utils/build-universal.sh RnaSeqSampleSize_2.17.0.tar.gz /Library/Frameworks/R.framework/Resources/bin/R RnaSeqSampleSize.buildbin-libdir StartedAt: 2025-02-04 00:52:55 -0500 (Tue, 04 Feb 2025) EndedAt: 2025-02-04 00:54:10 -0500 (Tue, 04 Feb 2025) EllapsedTime: 75.2 seconds RetCode: 0 Status: OK PackageFile: RnaSeqSampleSize_2.17.0.tgz PackageFileSize: 330.7 KiB