Package: RnaSeqSampleSize Version: 2.17.0 Command: /Library/Frameworks/R.framework/Resources/bin/R CMD build --keep-empty-dirs --no-resave-data RnaSeqSampleSize StartedAt: 2025-02-09 18:12:53 -0500 (Sun, 09 Feb 2025) EndedAt: 2025-02-09 18:15:05 -0500 (Sun, 09 Feb 2025) EllapsedTime: 131.7 seconds RetCode: 0 Status: OK PackageFile: RnaSeqSampleSize_2.17.0.tar.gz PackageFileSize: 236 KiB