Package: RnaSeqSampleSize Version: 2.17.0 Command: /Library/Frameworks/R.framework/Resources/bin/R CMD INSTALL RnaSeqSampleSize StartedAt: 2025-02-03 15:48:32 -0500 (Mon, 03 Feb 2025) EndedAt: 2025-02-03 15:49:42 -0500 (Mon, 03 Feb 2025) EllapsedTime: 69.5 seconds RetCode: 0 Status: OK