Package: RnaSeqSampleSize Version: 2.17.0 Command: /home/biocbuild/bbs-3.21-bioc/R/bin/R CMD build --keep-empty-dirs --no-resave-data RnaSeqSampleSize StartedAt: 2025-02-03 19:07:44 -0500 (Mon, 03 Feb 2025) EndedAt: 2025-02-03 19:09:24 -0500 (Mon, 03 Feb 2025) EllapsedTime: 100.1 seconds RetCode: 0 Status: OK PackageFile: RnaSeqSampleSize_2.17.0.tar.gz PackageFileSize: 235.7 KiB