Package: RnaSeqSampleSize Version: 2.17.0 Command: /home/biocbuild/bbs-3.21-bioc/R/bin/R CMD check --install=check:RnaSeqSampleSize.install-out.txt --library=/home/biocbuild/bbs-3.21-bioc/R/site-library --timings RnaSeqSampleSize_2.17.0.tar.gz StartedAt: 2025-02-04 02:08:12 -0500 (Tue, 04 Feb 2025) EndedAt: 2025-02-04 02:15:23 -0500 (Tue, 04 Feb 2025) EllapsedTime: 430.7 seconds RetCode: 0 Status: OK CheckDir: RnaSeqSampleSize.Rcheck Warnings: 0