Package: RnaSeqSampleSize Version: 2.17.0 Command: /home/biocbuild/bbs-3.21-bioc/R/bin/R CMD INSTALL RnaSeqSampleSize StartedAt: 2025-02-09 15:58:48 -0500 (Sun, 09 Feb 2025) EndedAt: 2025-02-09 15:59:41 -0500 (Sun, 09 Feb 2025) EllapsedTime: 53.7 seconds RetCode: 0 Status: OK