Package: RnaSeqSampleSize Version: 2.17.0 Command: chmod a+r RnaSeqSampleSize -R && E:\biocbuild\bbs-3.21-bioc\R\bin\R.exe CMD build --keep-empty-dirs --no-resave-data RnaSeqSampleSize StartedAt: 2025-02-03 21:28:42 -0500 (Mon, 03 Feb 2025) EndedAt: 2025-02-03 21:31:53 -0500 (Mon, 03 Feb 2025) EllapsedTime: 191.1 seconds RetCode: 0 Status: OK PackageFile: RnaSeqSampleSize_2.17.0.tar.gz PackageFileSize: 236.2 KiB