Package: RnaSeqSampleSize Version: 2.17.0 Command: E:\biocbuild\bbs-3.21-bioc\R\bin\R.exe CMD check --no-multiarch --install=check:RnaSeqSampleSize.install-out.txt --library=E:\biocbuild\bbs-3.21-bioc\R\library --no-vignettes --timings RnaSeqSampleSize_2.17.0.tar.gz StartedAt: 2025-02-10 04:49:23 -0500 (Mon, 10 Feb 2025) EndedAt: 2025-02-10 04:56:48 -0500 (Mon, 10 Feb 2025) EllapsedTime: 444.8 seconds RetCode: 0 Status: OK CheckDir: RnaSeqSampleSize.Rcheck Warnings: 0