Package: RnaSeqSampleSize Version: 2.17.0 Command: E:\biocbuild\bbs-3.21-bioc\R\bin\R.exe CMD INSTALL RnaSeqSampleSize StartedAt: 2025-02-09 16:49:26 -0500 (Sun, 09 Feb 2025) EndedAt: 2025-02-09 16:50:42 -0500 (Sun, 09 Feb 2025) EllapsedTime: 75.2 seconds RetCode: 0 Status: OK