Package: Rnits Version: 1.41.0 Command: /Library/Frameworks/R.framework/Resources/bin/R CMD INSTALL Rnits StartedAt: 2025-02-09 15:06:53 -0500 (Sun, 09 Feb 2025) EndedAt: 2025-02-09 15:06:58 -0500 (Sun, 09 Feb 2025) EllapsedTime: 5.4 seconds RetCode: 0 Status: OK