Package: Rnits Version: 1.41.0 Command: /home/biocbuild/bbs-3.21-bioc/R/bin/R CMD build --keep-empty-dirs --no-resave-data Rnits StartedAt: 2025-02-04 18:56:50 -0500 (Tue, 04 Feb 2025) EndedAt: 2025-02-04 18:58:03 -0500 (Tue, 04 Feb 2025) EllapsedTime: 73.1 seconds RetCode: 0 Status: OK PackageFile: Rnits_1.41.0.tar.gz PackageFileSize: 655.1 KiB