Package: Rnits Version: 1.41.0 Command: /home/biocbuild/bbs-3.21-bioc/R/bin/R CMD check --install=check:Rnits.install-out.txt --library=/home/biocbuild/bbs-3.21-bioc/R/site-library --timings Rnits_1.41.0.tar.gz StartedAt: 2025-02-05 02:09:39 -0500 (Wed, 05 Feb 2025) EndedAt: 2025-02-05 02:11:41 -0500 (Wed, 05 Feb 2025) EllapsedTime: 122.1 seconds RetCode: 0 Status: WARNINGS CheckDir: Rnits.Rcheck Warnings: 1