Package: Rnits Version: 1.41.0 Command: rm -rf Rnits.buildbin-libdir && mkdir Rnits.buildbin-libdir && E:\biocbuild\bbs-3.21-bioc\R\bin\R.exe CMD INSTALL --build --library=Rnits.buildbin-libdir Rnits_1.41.0.tar.gz StartedAt: 2025-02-10 08:35:04 -0500 (Mon, 10 Feb 2025) EndedAt: 2025-02-10 08:35:29 -0500 (Mon, 10 Feb 2025) EllapsedTime: 25.3 seconds RetCode: 0 Status: OK PackageFile: Rnits_1.41.0.zip PackageFileSize: 967 KiB