Package: RolDE Version: 1.11.0 Command: rm -rf RolDE.buildbin-libdir && mkdir RolDE.buildbin-libdir && /Users/biocbuild/BBS/utils/build-universal.sh RolDE_1.11.0.tar.gz /Library/Frameworks/R.framework/Resources/bin/R RolDE.buildbin-libdir StartedAt: 2025-02-09 22:28:28 -0500 (Sun, 09 Feb 2025) EndedAt: 2025-02-09 22:28:39 -0500 (Sun, 09 Feb 2025) EllapsedTime: 10.2 seconds RetCode: 0 Status: OK PackageFile: RolDE_1.11.0.tgz PackageFileSize: 1.385 MiB