Package: RolDE Version: 1.11.0 Command: /home/biocbuild/bbs-3.21-bioc/R/bin/R CMD check --install=check:RolDE.install-out.txt --library=/home/biocbuild/bbs-3.21-bioc/R/site-library --timings RolDE_1.11.0.tar.gz StartedAt: 2025-02-10 02:03:32 -0500 (Mon, 10 Feb 2025) EndedAt: 2025-02-10 02:08:12 -0500 (Mon, 10 Feb 2025) EllapsedTime: 279.4 seconds RetCode: 0 Status: OK CheckDir: RolDE.Rcheck Warnings: 0