Package: Rtpca Version: 1.17.0 Command: rm -rf Rtpca.buildbin-libdir && mkdir Rtpca.buildbin-libdir && /Users/biocbuild/BBS/utils/build-universal.sh Rtpca_1.17.0.tar.gz /Library/Frameworks/R.framework/Resources/bin/R Rtpca.buildbin-libdir StartedAt: 2025-02-10 01:13:37 -0500 (Mon, 10 Feb 2025) EndedAt: 2025-02-10 01:13:52 -0500 (Mon, 10 Feb 2025) EllapsedTime: 15.0 seconds RetCode: 0 Status: OK PackageFile: Rtpca_1.17.0.tgz PackageFileSize: 2.382 MiB