Package: Rtpca Version: 1.17.0 Command: /Library/Frameworks/R.framework/Resources/bin/R CMD build --keep-empty-dirs --no-resave-data Rtpca StartedAt: 2025-02-04 18:07:49 -0500 (Tue, 04 Feb 2025) EndedAt: 2025-02-04 18:08:17 -0500 (Tue, 04 Feb 2025) EllapsedTime: 28.5 seconds RetCode: 0 Status: OK PackageFile: Rtpca_1.17.0.tar.gz PackageFileSize: 2.12 MiB