Package: Rtpca Version: 1.17.0 Command: /Library/Frameworks/R.framework/Resources/bin/R CMD INSTALL Rtpca StartedAt: 2025-02-09 15:08:31 -0500 (Sun, 09 Feb 2025) EndedAt: 2025-02-09 15:08:50 -0500 (Sun, 09 Feb 2025) EllapsedTime: 18.3 seconds RetCode: 0 Status: OK