Package: Rtpca Version: 1.17.0 Command: chmod a+r Rtpca -R && E:\biocbuild\bbs-3.21-bioc\R\bin\R.exe CMD build --keep-empty-dirs --no-resave-data Rtpca StartedAt: 2025-02-04 21:22:15 -0500 (Tue, 04 Feb 2025) EndedAt: 2025-02-04 21:23:21 -0500 (Tue, 04 Feb 2025) EllapsedTime: 65.8 seconds RetCode: 0 Status: OK PackageFile: Rtpca_1.17.0.tar.gz PackageFileSize: 2.009 MiB