Package: Rtpca Version: 1.17.0 Command: E:\biocbuild\bbs-3.21-bioc\R\bin\R.exe CMD INSTALL Rtpca StartedAt: 2025-02-09 15:30:49 -0500 (Sun, 09 Feb 2025) EndedAt: 2025-02-09 15:31:38 -0500 (Sun, 09 Feb 2025) EllapsedTime: 49.7 seconds RetCode: 0 Status: OK