Package: Rtreemix Version: 1.69.0 Command: /Library/Frameworks/R.framework/Resources/bin/R CMD INSTALL Rtreemix StartedAt: 2025-02-09 15:25:39 -0500 (Sun, 09 Feb 2025) EndedAt: 2025-02-09 15:25:42 -0500 (Sun, 09 Feb 2025) EllapsedTime: 2.5 seconds RetCode: 1 Status: ERROR