Package: Rtreemix Version: 1.69.0 Command: /home/biocbuild/bbs-3.21-bioc/R/bin/R CMD INSTALL Rtreemix StartedAt: 2025-02-09 15:13:54 -0500 (Sun, 09 Feb 2025) EndedAt: 2025-02-09 15:13:57 -0500 (Sun, 09 Feb 2025) EllapsedTime: 3.0 seconds RetCode: 1 Status: ERROR