Package: Rtreemix Version: 1.69.0 Command: chmod a+r Rtreemix -R && E:\biocbuild\bbs-3.21-bioc\R\bin\R.exe CMD build --keep-empty-dirs --no-resave-data Rtreemix StartedAt: 2025-02-09 21:19:50 -0500 (Sun, 09 Feb 2025) EndedAt: 2025-02-09 21:19:59 -0500 (Sun, 09 Feb 2025) EllapsedTime: 8.8 seconds RetCode: 1 Status: ERROR PackageFile: None PackageFileSize: NA