Package: Rvisdiff Version: 1.5.0 Command: /Library/Frameworks/R.framework/Resources/bin/R CMD INSTALL Rvisdiff StartedAt: 2025-02-09 15:03:06 -0500 (Sun, 09 Feb 2025) EndedAt: 2025-02-09 15:03:14 -0500 (Sun, 09 Feb 2025) EllapsedTime: 8.0 seconds RetCode: 0 Status: OK