Package: Rvisdiff Version: 1.5.0 Command: rm -rf Rvisdiff.buildbin-libdir && mkdir Rvisdiff.buildbin-libdir && /Users/biocbuild/BBS/utils/build-universal.sh Rvisdiff_1.5.0.tar.gz /Library/Frameworks/R.framework/Resources/bin/R Rvisdiff.buildbin-libdir StartedAt: 2025-02-10 01:13:46 -0500 (Mon, 10 Feb 2025) EndedAt: 2025-02-10 01:13:54 -0500 (Mon, 10 Feb 2025) EllapsedTime: 8.1 seconds RetCode: 0 Status: OK PackageFile: Rvisdiff_1.5.0.tgz PackageFileSize: 944 KiB