Package: Rvisdiff Version: 1.5.0 Command: /Library/Frameworks/R.framework/Resources/bin/R CMD INSTALL Rvisdiff StartedAt: 2025-02-09 15:07:47 -0500 (Sun, 09 Feb 2025) EndedAt: 2025-02-09 15:08:20 -0500 (Sun, 09 Feb 2025) EllapsedTime: 32.7 seconds RetCode: 0 Status: OK