Package: Rvisdiff Version: 1.5.0 Command: /home/biocbuild/bbs-3.21-bioc/R/bin/R CMD build --keep-empty-dirs --no-resave-data Rvisdiff StartedAt: 2025-02-09 19:02:38 -0500 (Sun, 09 Feb 2025) EndedAt: 2025-02-09 19:03:39 -0500 (Sun, 09 Feb 2025) EllapsedTime: 61.2 seconds RetCode: 0 Status: OK PackageFile: Rvisdiff_1.5.0.tar.gz PackageFileSize: 1.314 MiB