Package: Rvisdiff Version: 1.5.0 Command: /home/biocbuild/bbs-3.21-bioc/R/bin/R CMD check --install=check:Rvisdiff.install-out.txt --library=/home/biocbuild/bbs-3.21-bioc/R/site-library --timings Rvisdiff_1.5.0.tar.gz StartedAt: 2025-02-10 02:09:58 -0500 (Mon, 10 Feb 2025) EndedAt: 2025-02-10 02:13:20 -0500 (Mon, 10 Feb 2025) EllapsedTime: 202.3 seconds RetCode: 0 Status: OK CheckDir: Rvisdiff.Rcheck Warnings: 0