Package: Rvisdiff Version: 1.5.0 Command: /home/biocbuild/bbs-3.21-bioc/R/bin/R CMD INSTALL Rvisdiff StartedAt: 2025-02-09 15:03:53 -0500 (Sun, 09 Feb 2025) EndedAt: 2025-02-09 15:04:09 -0500 (Sun, 09 Feb 2025) EllapsedTime: 16.0 seconds RetCode: 0 Status: OK