Package: Rvisdiff Version: 1.5.0 Command: rm -rf Rvisdiff.buildbin-libdir && mkdir Rvisdiff.buildbin-libdir && E:\biocbuild\bbs-3.21-bioc\R\bin\R.exe CMD INSTALL --build --library=Rvisdiff.buildbin-libdir Rvisdiff_1.5.0.tar.gz StartedAt: 2025-02-10 08:36:40 -0500 (Mon, 10 Feb 2025) EndedAt: 2025-02-10 08:36:45 -0500 (Mon, 10 Feb 2025) EllapsedTime: 4.8 seconds RetCode: 0 Status: OK PackageFile: Rvisdiff_1.5.0.zip PackageFileSize: 948.4 KiB