Package: Rvisdiff Version: 1.5.0 Command: chmod a+r Rvisdiff -R && E:\biocbuild\bbs-3.21-bioc\R\bin\R.exe CMD build --keep-empty-dirs --no-resave-data Rvisdiff StartedAt: 2025-02-09 21:20:50 -0500 (Sun, 09 Feb 2025) EndedAt: 2025-02-09 21:22:07 -0500 (Sun, 09 Feb 2025) EllapsedTime: 76.9 seconds RetCode: 0 Status: OK PackageFile: Rvisdiff_1.5.0.tar.gz PackageFileSize: 1.314 MiB