Package: Rvisdiff Version: 1.5.0 Command: E:\biocbuild\bbs-3.21-bioc\R\bin\R.exe CMD INSTALL Rvisdiff StartedAt: 2025-02-09 15:29:10 -0500 (Sun, 09 Feb 2025) EndedAt: 2025-02-09 15:29:20 -0500 (Sun, 09 Feb 2025) EllapsedTime: 9.2 seconds RetCode: 0 Status: OK