Back to Multiple platform build/check report for BioC 3.21:   simplified   long
ABCDEFGHIJKLMNOPQR[S]TUVWXYZ

This page was generated on 2025-02-06 11:39 -0500 (Thu, 06 Feb 2025).

HostnameOSArch (*)R versionInstalled pkgs
nebbiolo1Linux (Ubuntu 24.04.1 LTS)x86_64R Under development (unstable) (2025-01-20 r87609) -- "Unsuffered Consequences" 4719
palomino7Windows Server 2022 Datacenterx64R Under development (unstable) (2025-01-21 r87610 ucrt) -- "Unsuffered Consequences" 4480
lconwaymacOS 12.7.1 Montereyx86_64R Under development (unstable) (2025-01-22 r87618) -- "Unsuffered Consequences" 4491
kjohnson3macOS 13.7.1 Venturaarm64R Under development (unstable) (2025-01-20 r87609) -- "Unsuffered Consequences" 4444
Click on any hostname to see more info about the system (e.g. compilers)      (*) as reported by 'uname -p', except on Windows and Mac OS X

All results for package S4Arrays


To the developers/maintainers of the S4Arrays package:
- Allow up to 24 hours (and sometimes 48 hours) for your latest push to git@git.bioconductor.org:packages/S4Arrays.git to reflect on this report. See Troubleshooting Build Report for more information.
- Use the following Renviron settings to reproduce errors and warnings.
- If 'R CMD check' started to fail recently on the Linux builder(s) over a missing dependency, add the missing dependency to 'Suggests:' in your DESCRIPTION file. See Renviron.bioc for more information.

raw results

Package 1830/2295HostnameOS / ArchINSTALLBUILDCHECKBUILD BIN
S4Arrays 1.7.2  (landing page)
Hervé Pagès
Snapshot Date: 2025-02-05 13:48 -0500 (Wed, 05 Feb 2025)
git_url: https://git.bioconductor.org/packages/S4Arrays
git_branch: devel
git_last_commit: bf25e5f
git_last_commit_date: 2025-01-14 17:51:59 -0500 (Tue, 14 Jan 2025)
nebbiolo1Linux (Ubuntu 24.04.1 LTS) / x86_64  OK    OK    OK  UNNEEDED, same version is already published
palomino7Windows Server 2022 Datacenter / x64  OK    OK    OK    OK  UNNEEDED, same version is already published
lconwaymacOS 12.7.1 Monterey / x86_64  OK    OK    OK    OK  UNNEEDED, same version is already published
kjohnson3macOS 13.7.1 Ventura / arm64  OK    OK    OK    OK  UNNEEDED, same version is already published



Results for Bioconductor software packages that depend directly on package S4Arrays

QUICK STATSOS / ArchINSTALLBUILDCHECKBUILD BIN
nebbiolo1Linux (Ubuntu 24.04.1 LTS) / x86_64
0010
0010
1045
palomino7Windows Server 2022 Datacenter / x64
0010
109
0054
009
lconwaymacOS 12.7.1 Monterey / x86_64
0010
109
0045
009
kjohnson3macOS 13.7.1 Ventura / arm64
0010
0010
0046
0010
Package 1/10HostnameOS / ArchINSTALLBUILDCHECKBUILD BIN
alabaster.matrix 1.7.6  (landing page)
Aaron Lun
git_last_commit: 6849f96
git_last_commit_date: 2025-01-23 12:12:47 -0500
nebbiolo1Linux (Ubuntu 24.04.1 LTS) / x86_64  OK    OK    OK  UNNEEDED, same version is already published
palomino7Windows Server 2022 Datacenter / x64  OK    OK    OK    OK  UNNEEDED, same version is already published
lconwaymacOS 12.7.1 Monterey / x86_64  OK    OK    OK    OK  UNNEEDED, same version is already published
kjohnson3macOS 13.7.1 Ventura / arm64  OK    OK    OK    OK  UNNEEDED, same version is already published
Package 2/10HostnameOS / ArchINSTALLBUILDCHECKBUILD BIN
DelayedArray 0.33.5  (landing page)
Hervé Pagès
git_last_commit: ce63724
git_last_commit_date: 2025-02-02 23:45:08 -0500
nebbiolo1Linux (Ubuntu 24.04.1 LTS) / x86_64  OK    OK    WARNINGS  UNNEEDED, same version is already published
palomino7Windows Server 2022 Datacenter / x64  OK    OK    WARNINGS    OK  UNNEEDED, same version is already published
lconwaymacOS 12.7.1 Monterey / x86_64  OK    OK    WARNINGS    OK  UNNEEDED, same version is already published
kjohnson3macOS 13.7.1 Ventura / arm64  OK    OK    WARNINGS    OK  UNNEEDED, same version is already published
Package 3/10HostnameOS / ArchINSTALLBUILDCHECKBUILD BIN
DelayedTensor 1.13.0  (landing page)
Koki Tsuyuzaki
git_last_commit: 35f745f
git_last_commit_date: 2024-10-29 11:01:15 -0500
nebbiolo1Linux (Ubuntu 24.04.1 LTS) / x86_64  OK    OK    WARNINGS  UNNEEDED, same version is already published
palomino7Windows Server 2022 Datacenter / x64  OK    OK    WARNINGS    OK  UNNEEDED, same version is already published
lconwaymacOS 12.7.1 Monterey / x86_64  OK    OK    WARNINGS    OK  UNNEEDED, same version is already published
kjohnson3macOS 13.7.1 Ventura / arm64  OK    OK    WARNINGS    OK  UNNEEDED, same version is already published
Package 4/10HostnameOS / ArchINSTALLBUILDCHECKBUILD BIN
dreamlet 1.5.0  (landing page)
Gabriel Hoffman
git_last_commit: dd6cd83
git_last_commit_date: 2024-10-29 11:23:25 -0500
nebbiolo1Linux (Ubuntu 24.04.1 LTS) / x86_64  OK    OK    OK  UNNEEDED, same version is already published
palomino7Windows Server 2022 Datacenter / x64  OK    OK    OK    OK  UNNEEDED, same version is already published
lconwaymacOS 12.7.1 Monterey / x86_64  OK    OK    OK    OK  UNNEEDED, same version is already published
kjohnson3macOS 13.7.1 Ventura / arm64  OK    OK    OK    OK  UNNEEDED, same version is already published
Package 5/10HostnameOS / ArchINSTALLBUILDCHECKBUILD BIN
h5mread 0.99.4  (landing page)
Hervé Pagès
git_last_commit: 8aced10
git_last_commit_date: 2025-01-21 16:44:07 -0500
nebbiolo1Linux (Ubuntu 24.04.1 LTS) / x86_64  OK    OK    WARNINGS  UNNEEDED, same version is already published
palomino7Windows Server 2022 Datacenter / x64  OK    OK    WARNINGS    OK  UNNEEDED, same version is already published
lconwaymacOS 12.7.1 Monterey / x86_64  OK    OK    WARNINGS    OK  UNNEEDED, same version is already published
kjohnson3macOS 13.7.1 Ventura / arm64  OK    OK    WARNINGS    OK  UNNEEDED, same version is already published
Package 6/10HostnameOS / ArchINSTALLBUILDCHECKBUILD BIN
HDF5Array 1.35.12  (landing page)
Hervé Pagès
git_last_commit: 8009284
git_last_commit_date: 2025-02-05 13:45:10 -0500
nebbiolo1Linux (Ubuntu 24.04.1 LTS) / x86_64  OK    OK    TIMEOUT  
palomino7Windows Server 2022 Datacenter / x64  OK    TIMEOUT  skippedskipped
lconwaymacOS 12.7.1 Monterey / x86_64  OK    TIMEOUT  skippedskipped
kjohnson3macOS 13.7.1 Ventura / arm64  OK    OK    OK    OK  YES
Package 7/10HostnameOS / ArchINSTALLBUILDCHECKBUILD BIN
scran 1.35.0  (landing page)
Aaron Lun
git_last_commit: f18e781
git_last_commit_date: 2024-10-29 10:09:52 -0500
nebbiolo1Linux (Ubuntu 24.04.1 LTS) / x86_64  OK    OK    WARNINGS  UNNEEDED, same version is already published
palomino7Windows Server 2022 Datacenter / x64  OK    OK    WARNINGS    OK  UNNEEDED, same version is already published
lconwaymacOS 12.7.1 Monterey / x86_64  OK    OK    WARNINGS    OK  UNNEEDED, same version is already published
kjohnson3macOS 13.7.1 Ventura / arm64  OK    OK    WARNINGS    OK  UNNEEDED, same version is already published
Package 8/10HostnameOS / ArchINSTALLBUILDCHECKBUILD BIN
scuttle 1.17.0  (landing page)
Aaron Lun
git_last_commit: 5930665
git_last_commit_date: 2024-10-29 10:47:24 -0500
nebbiolo1Linux (Ubuntu 24.04.1 LTS) / x86_64  OK    OK    OK  UNNEEDED, same version is already published
palomino7Windows Server 2022 Datacenter / x64  OK    OK    OK    OK  UNNEEDED, same version is already published
lconwaymacOS 12.7.1 Monterey / x86_64  OK    OK    OK    OK  UNNEEDED, same version is already published
kjohnson3macOS 13.7.1 Ventura / arm64  OK    OK    OK    OK  UNNEEDED, same version is already published
Package 9/10HostnameOS / ArchINSTALLBUILDCHECKBUILD BIN
SparseArray 1.7.5  (landing page)
Hervé Pagès
git_last_commit: 25a0633
git_last_commit_date: 2025-02-02 23:41:55 -0500
nebbiolo1Linux (Ubuntu 24.04.1 LTS) / x86_64  OK    OK    OK  UNNEEDED, same version is already published
palomino7Windows Server 2022 Datacenter / x64  OK    OK    WARNINGS    OK  UNNEEDED, same version is already published
lconwaymacOS 12.7.1 Monterey / x86_64  OK    OK    OK    OK  UNNEEDED, same version is already published
kjohnson3macOS 13.7.1 Ventura / arm64  OK    OK    OK    OK  UNNEEDED, same version is already published
Package 10/10HostnameOS / ArchINSTALLBUILDCHECKBUILD BIN
SummarizedExperiment 1.37.0  (landing page)
Hervé Pagès
git_last_commit: cbdaaaa
git_last_commit_date: 2024-10-29 10:01:26 -0500
nebbiolo1Linux (Ubuntu 24.04.1 LTS) / x86_64  OK    OK    OK  UNNEEDED, same version is already published
palomino7Windows Server 2022 Datacenter / x64  OK    OK    OK    OK  UNNEEDED, same version is already published
lconwaymacOS 12.7.1 Monterey / x86_64  OK    OK    OK    OK  UNNEEDED, same version is already published
kjohnson3macOS 13.7.1 Ventura / arm64  OK    OK    OK    OK  UNNEEDED, same version is already published