Package: S4Arrays Version: 1.7.3 Maintainer: Hervé Pagès MaintainerEmail: hpages.on.github at gmail.com git_url: https://git.bioconductor.org/packages/S4Arrays git_branch: devel git_last_commit: 41a64ff git_last_commit_date: 2025-02-07 21:02:59 -0500 (Fri, 07 Feb 2025)