Package: S4Arrays Version: 1.7.1 Command: /home/biocbuild/R/R/bin/R CMD build --keep-empty-dirs --no-resave-data S4Arrays StartedAt: 2025-01-29 01:55:44 -0000 (Wed, 29 Jan 2025) EndedAt: 2025-01-29 01:56:13 -0000 (Wed, 29 Jan 2025) EllapsedTime: 29.0 seconds RetCode: 0 Status: OK PackageFile: S4Arrays_1.7.1.tar.gz PackageFileSize: 303.6 KiB