Package: S4Arrays Version: 1.7.3 Command: /Library/Frameworks/R.framework/Resources/bin/R CMD check --install=check:S4Arrays.install-out.txt --library=/Library/Frameworks/R.framework/Resources/library --no-vignettes --timings S4Arrays_1.7.3.tar.gz StartedAt: 2025-02-09 23:18:45 -0500 (Sun, 09 Feb 2025) EndedAt: 2025-02-09 23:21:35 -0500 (Sun, 09 Feb 2025) EllapsedTime: 169.1 seconds RetCode: 0 Status: OK CheckDir: S4Arrays.Rcheck Warnings: 0