Package: S4Arrays Version: 1.7.2 Command: /home/biocbuild/bbs-3.21-bioc/R/bin/R CMD check --install=check:S4Arrays.install-out.txt --library=/home/biocbuild/bbs-3.21-bioc/R/site-library --timings S4Arrays_1.7.2.tar.gz StartedAt: 2025-02-05 02:18:05 -0500 (Wed, 05 Feb 2025) EndedAt: 2025-02-05 02:20:13 -0500 (Wed, 05 Feb 2025) EllapsedTime: 128.2 seconds RetCode: 0 Status: OK CheckDir: S4Arrays.Rcheck Warnings: 0