Package: S4Arrays Version: 1.7.2 Command: E:\biocbuild\bbs-3.21-bioc\R\bin\R.exe CMD INSTALL S4Arrays StartedAt: 2025-02-04 15:28:00 -0500 (Tue, 04 Feb 2025) EndedAt: 2025-02-04 15:29:27 -0500 (Tue, 04 Feb 2025) EllapsedTime: 86.2 seconds RetCode: 0 Status: OK