Package: S4Vectors Version: 0.45.4 Command: rm -rf S4Vectors.buildbin-libdir && mkdir S4Vectors.buildbin-libdir && /Users/biocbuild/BBS/utils/build-universal.sh S4Vectors_0.45.4.tar.gz /Library/Frameworks/R.framework/Resources/bin/R S4Vectors.buildbin-libdir StartedAt: 2025-02-12 22:34:11 -0500 (Wed, 12 Feb 2025) EndedAt: 2025-02-12 22:34:22 -0500 (Wed, 12 Feb 2025) EllapsedTime: 10.2 seconds RetCode: 0 Status: OK PackageFile: S4Vectors_0.45.4.tgz PackageFileSize: 2.427 MiB