Package: S4Vectors Version: 0.45.4 Command: /Library/Frameworks/R.framework/Resources/bin/R CMD build --keep-empty-dirs --no-resave-data S4Vectors StartedAt: 2025-02-12 17:28:52 -0500 (Wed, 12 Feb 2025) EndedAt: 2025-02-12 17:29:16 -0500 (Wed, 12 Feb 2025) EllapsedTime: 23.3 seconds RetCode: 0 Status: OK PackageFile: S4Vectors_0.45.4.tar.gz PackageFileSize: 1.001 MiB