Package: S4Vectors Version: 0.45.4 Command: /Library/Frameworks/R.framework/Resources/bin/R CMD INSTALL S4Vectors StartedAt: 2025-02-12 15:02:01 -0500 (Wed, 12 Feb 2025) EndedAt: 2025-02-12 15:02:10 -0500 (Wed, 12 Feb 2025) EllapsedTime: 9.1 seconds RetCode: 0 Status: OK