Package: S4Vectors Version: 0.45.4 Command: rm -rf S4Vectors.buildbin-libdir && mkdir S4Vectors.buildbin-libdir && /Users/biocbuild/BBS/utils/build-universal.sh S4Vectors_0.45.4.tar.gz /Library/Frameworks/R.framework/Resources/bin/R S4Vectors.buildbin-libdir StartedAt: 2025-02-13 00:56:12 -0500 (Thu, 13 Feb 2025) EndedAt: 2025-02-13 00:56:57 -0500 (Thu, 13 Feb 2025) EllapsedTime: 45.0 seconds RetCode: 0 Status: OK PackageFile: S4Vectors_0.45.4.tgz PackageFileSize: 2.435 MiB