Package: S4Vectors Version: 0.45.2 Command: /Library/Frameworks/R.framework/Resources/bin/R CMD build --keep-empty-dirs --no-resave-data S4Vectors StartedAt: 2025-02-09 18:16:10 -0500 (Sun, 09 Feb 2025) EndedAt: 2025-02-09 18:17:19 -0500 (Sun, 09 Feb 2025) EllapsedTime: 68.5 seconds RetCode: 0 Status: OK PackageFile: S4Vectors_0.45.2.tar.gz PackageFileSize: 1.001 MiB