Package: S4Vectors Version: 0.45.4 Command: /home/biocbuild/bbs-3.21-bioc/R/bin/R CMD build --keep-empty-dirs --no-resave-data S4Vectors StartedAt: 2025-02-12 18:58:54 -0500 (Wed, 12 Feb 2025) EndedAt: 2025-02-12 18:59:47 -0500 (Wed, 12 Feb 2025) EllapsedTime: 53.1 seconds RetCode: 0 Status: OK PackageFile: S4Vectors_0.45.4.tar.gz PackageFileSize: 1.023 MiB