Package: S4Vectors Version: 0.45.4 Command: /home/biocbuild/bbs-3.21-bioc/R/bin/R CMD INSTALL S4Vectors StartedAt: 2025-02-12 15:12:05 -0500 (Wed, 12 Feb 2025) EndedAt: 2025-02-12 15:12:30 -0500 (Wed, 12 Feb 2025) EllapsedTime: 24.4 seconds RetCode: 0 Status: OK