Package: S4Vectors Version: 0.45.2 Command: rm -rf S4Vectors.buildbin-libdir && mkdir S4Vectors.buildbin-libdir && E:\biocbuild\bbs-3.21-bioc\R\bin\R.exe CMD INSTALL --build --library=S4Vectors.buildbin-libdir S4Vectors_0.45.2.tar.gz StartedAt: 2025-02-10 08:36:46 -0500 (Mon, 10 Feb 2025) EndedAt: 2025-02-10 08:41:18 -0500 (Mon, 10 Feb 2025) EllapsedTime: 272.0 seconds RetCode: 0 Status: OK PackageFile: S4Vectors_0.45.2.zip PackageFileSize: 2.281 MiB