Package: S4Vectors Version: 0.45.2 Command: chmod a+r S4Vectors -R && E:\biocbuild\bbs-3.21-bioc\R\bin\R.exe CMD build --keep-empty-dirs --no-resave-data S4Vectors StartedAt: 2025-02-09 21:21:04 -0500 (Sun, 09 Feb 2025) EndedAt: 2025-02-09 21:25:00 -0500 (Sun, 09 Feb 2025) EllapsedTime: 235.9 seconds RetCode: 0 Status: OK PackageFile: S4Vectors_0.45.2.tar.gz PackageFileSize: 856.9 KiB