Package: SAIGEgds Version: 2.7.1 Command: rm -rf SAIGEgds.buildbin-libdir && mkdir SAIGEgds.buildbin-libdir && /Users/biocbuild/BBS/utils/build-universal.sh SAIGEgds_2.7.1.tar.gz /Library/Frameworks/R.framework/Resources/bin/R SAIGEgds.buildbin-libdir StartedAt: 2025-02-03 23:04:47 -0500 (Mon, 03 Feb 2025) EndedAt: 2025-02-03 23:05:06 -0500 (Mon, 03 Feb 2025) EllapsedTime: 18.3 seconds RetCode: 0 Status: OK PackageFile: SAIGEgds_2.7.1.tgz PackageFileSize: 2.347 MiB